BEGIN:VCALENDAR
VERSION:2.0
PRODID:-//St. Timothy Events - ECPv6.15.19//NONSGML v1.0//EN
CALSCALE:GREGORIAN
METHOD:PUBLISH
X-WR-CALNAME:St. Timothy Events
X-ORIGINAL-URL:https://sttimsevents.com
X-WR-CALDESC:Events for St. Timothy Events
REFRESH-INTERVAL;VALUE=DURATION:PT1H
X-Robots-Tag:noindex
X-PUBLISHED-TTL:PT1H
BEGIN:VTIMEZONE
TZID:America/Detroit
BEGIN:DAYLIGHT
TZOFFSETFROM:-0500
TZOFFSETTO:-0400
TZNAME:EDT
DTSTART:20250309T070000
END:DAYLIGHT
BEGIN:STANDARD
TZOFFSETFROM:-0400
TZOFFSETTO:-0500
TZNAME:EST
DTSTART:20251102T060000
END:STANDARD
BEGIN:DAYLIGHT
TZOFFSETFROM:-0500
TZOFFSETTO:-0400
TZNAME:EDT
DTSTART:20260308T070000
END:DAYLIGHT
BEGIN:STANDARD
TZOFFSETFROM:-0400
TZOFFSETTO:-0500
TZNAME:EST
DTSTART:20261101T060000
END:STANDARD
BEGIN:DAYLIGHT
TZOFFSETFROM:-0500
TZOFFSETTO:-0400
TZNAME:EDT
DTSTART:20270314T070000
END:DAYLIGHT
BEGIN:STANDARD
TZOFFSETFROM:-0400
TZOFFSETTO:-0500
TZNAME:EST
DTSTART:20271107T060000
END:STANDARD
END:VTIMEZONE
BEGIN:VEVENT
DTSTART;TZID=America/Detroit:20260501T093000
DTEND;TZID=America/Detroit:20260501T103000
DTSTAMP:20260420T104044
CREATED:20250731T140941Z
LAST-MODIFIED:20250731T140941Z
UID:325-1777627800-1777631400@sttimsevents.com
SUMMARY:Kindergarten May Crowning in Classroom
DESCRIPTION:
URL:https://sttimsevents.com/event/kindergarten-may-crowning-in-classroom/
CATEGORIES:School
END:VEVENT
BEGIN:VEVENT
DTSTART;TZID=America/Detroit:20260501T143000
DTEND;TZID=America/Detroit:20260501T180000
DTSTAMP:20260420T104044
CREATED:20260306T174959Z
LAST-MODIFIED:20260330T154305Z
UID:527-1777645800-1777658400@sttimsevents.com
SUMMARY:Flower Sale Pickup
DESCRIPTION:Plants ordered during the spring flower sale will be available for pickup in the lower parking lot from 2:30-6pm. \n\n\n\nWe need a few volunteers to assist with unloading the truck\, sorting orders and helping folks locate their orders and getting them to their vehicles. Please consider signing up for a shift – many hands make light work! \n\n\n\nVolunteer Here!
URL:https://sttimsevents.com/event/flower-sale-pickup/
CATEGORIES:Fundraiser,Parish,School
ATTACH;FMTTYPE=image/jpeg:https://sttimsevents.com/wp-content/uploads/2026/02/2-2.jpg
END:VEVENT
BEGIN:VEVENT
DTSTART;VALUE=DATE:20260505
DTEND;VALUE=DATE:20260509
DTSTAMP:20260420T104044
CREATED:20250731T141028Z
LAST-MODIFIED:20250731T141028Z
UID:327-1777939200-1778284799@sttimsevents.com
SUMMARY:8th Grade Trip to Washington D.C.
DESCRIPTION:
URL:https://sttimsevents.com/event/8th-grade-trip-to-washington-d-c/
CATEGORIES:School
END:VEVENT
BEGIN:VEVENT
DTSTART;TZID=America/Detroit:20260513T090000
DTEND;TZID=America/Detroit:20260513T100000
DTSTAMP:20260420T104044
CREATED:20250731T141112Z
LAST-MODIFIED:20250731T141112Z
UID:328-1778662800-1778666400@sttimsevents.com
SUMMARY:May Crowning Mass
DESCRIPTION:
URL:https://sttimsevents.com/event/may-crowning-mass/
CATEGORIES:Parish,School
END:VEVENT
BEGIN:VEVENT
DTSTART;TZID=America/Detroit:20260515T120000
DTEND;TZID=America/Detroit:20260515T143000
DTSTAMP:20260420T104044
CREATED:20250731T141221Z
LAST-MODIFIED:20260417T165054Z
UID:329-1778846400-1778855400@sttimsevents.com
SUMMARY:Career Day - Grades 5-8
DESCRIPTION:Ready to inspire our students? We are seeking presenters for Career Day. Please contact Monica DeMeglio at monicademeglio@gmail.com if interested in sharing a few details about what you do. Thanks!
URL:https://sttimsevents.com/event/career-day-grades-5-8/
CATEGORIES:School
END:VEVENT
BEGIN:VEVENT
DTSTART;TZID=America/Detroit:20260517T084000
DTEND;TZID=America/Detroit:20260517T100000
DTSTAMP:20260420T104044
CREATED:20250915T164629Z
LAST-MODIFIED:20250915T164641Z
UID:397-1779007200-1779012000@sttimsevents.com
SUMMARY:Children's Choir Performance
DESCRIPTION:The final Children’s Choir performance at Mass during the 25-26 School Year
URL:https://sttimsevents.com/event/childrens-choir-performance-8/
CATEGORIES:Parish,School
END:VEVENT
BEGIN:VEVENT
DTSTART;TZID=America/Detroit:20260519T130000
DTEND;TZID=America/Detroit:20260519T190000
DTSTAMP:20260420T104044
CREATED:20250731T141432Z
LAST-MODIFIED:20250731T141441Z
UID:331-1779195600-1779217200@sttimsevents.com
SUMMARY:First Grade Play
DESCRIPTION:Performances will be held at 1:00 PM and 7:00 PM in the gym
URL:https://sttimsevents.com/event/first-grade-play/
CATEGORIES:School
END:VEVENT
BEGIN:VEVENT
DTSTART;TZID=America/Detroit:20260519T174500
DTEND;TZID=America/Detroit:20260519T184500
DTSTAMP:20260420T104044
CREATED:20250731T141324Z
LAST-MODIFIED:20250731T153250Z
UID:330-1779212700-1779216300@sttimsevents.com
SUMMARY:School Advisory Board meeting
DESCRIPTION:Saint Timothy School Advisory Board shall function as an advisory board whose purpose shall be to develop and define policies that govern the operation of the school.  Its primary concern is the intellectual and spiritual development of the students. \n\n\n\nThe St. Timothy School Advisory Board consists of the Pastor\, the school Principal\, Home and School Association President\, as well as elected and appointed members. Open meetings are conducted monthly\, August through May. \n\n\n\n\n\n\nThis meeting will be held in the Teacher’s Lounge
URL:https://sttimsevents.com/event/school-advisory-board-meeting-8/
CATEGORIES:School
END:VEVENT
BEGIN:VEVENT
DTSTART;VALUE=DATE:20260521
DTEND;VALUE=DATE:20260522
DTSTAMP:20260420T104044
CREATED:20250731T141516Z
LAST-MODIFIED:20250731T141516Z
UID:332-1779321600-1779407999@sttimsevents.com
SUMMARY:Last Day the Cafeteria is Open
DESCRIPTION:
URL:https://sttimsevents.com/event/last-day-the-cafeteria-is-open/
CATEGORIES:School
END:VEVENT
BEGIN:VEVENT
DTSTART;VALUE=DATE:20260522
DTEND;VALUE=DATE:20260530
DTSTAMP:20260420T104044
CREATED:20250731T141602Z
LAST-MODIFIED:20250731T160416Z
UID:333-1779408000-1780099199@sttimsevents.com
SUMMARY:Cafeteria is CLOSED
DESCRIPTION:No lunch or milk will be served\, as our staff closes up for the year. All students must pack a lunch and a drink for the remainder of the year.
URL:https://sttimsevents.com/event/cafeteria-is-closed/
CATEGORIES:School
END:VEVENT
BEGIN:VEVENT
DTSTART;VALUE=DATE:20260525
DTEND;VALUE=DATE:20260526
DTSTAMP:20260420T104044
CREATED:20250731T021354Z
LAST-MODIFIED:20250731T021503Z
UID:269-1779667200-1779753599@sttimsevents.com
SUMMARY:Memorial Day: NO SCHOOL
DESCRIPTION:
URL:https://sttimsevents.com/event/memorial-day-no-school/
CATEGORIES:School
END:VEVENT
BEGIN:VEVENT
DTSTART;TZID=America/Detroit:20260528T090000
DTEND;TZID=America/Detroit:20260528T100000
DTSTAMP:20260420T104044
CREATED:20250731T141755Z
LAST-MODIFIED:20260415T142752Z
UID:334-1779958800-1779962400@sttimsevents.com
SUMMARY:Closing School Mass - Candle Passing from 8th Grade to 7th Grade
DESCRIPTION:
URL:https://sttimsevents.com/event/closing-school-mass-candle-passing-from-8th-grade-to-7th-grade/
CATEGORIES:Parish,School
END:VEVENT
BEGIN:VEVENT
DTSTART;TZID=America/Detroit:20260527T180000
DTEND;TZID=America/Detroit:20260527T190000
DTSTAMP:20260420T104044
CREATED:20250731T141843Z
LAST-MODIFIED:20250822T201228Z
UID:335-1779904800-1779908400@sttimsevents.com
SUMMARY:8th Grade Graduation Mass
DESCRIPTION:
URL:https://sttimsevents.com/event/8th-grade-graduation-mass/
CATEGORIES:School
END:VEVENT
BEGIN:VEVENT
DTSTART;TZID=America/Detroit:20260528T100000
DTEND;TZID=America/Detroit:20260528T110000
DTSTAMP:20260420T104044
CREATED:20250731T141953Z
LAST-MODIFIED:20260415T142932Z
UID:336-1779962400-1779966000@sttimsevents.com
SUMMARY:Second Semester Academic Awards
DESCRIPTION:Assembly for Grades 6-8 to recognize academic excellence. This event will be held in the Church\, and families are welcome to attend.
URL:https://sttimsevents.com/event/academic-recognition-assembly-for-grades-6-8/
CATEGORIES:School
END:VEVENT
BEGIN:VEVENT
DTSTART;VALUE=DATE:20260529
DTEND;VALUE=DATE:20260530
DTSTAMP:20260420T104044
CREATED:20250731T021428Z
LAST-MODIFIED:20250731T153509Z
UID:270-1780012800-1780099199@sttimsevents.com
SUMMARY:Last Day of School (1 p.m. dismissal)
DESCRIPTION:
URL:https://sttimsevents.com/event/last-day-of-school-100-pm-dismissal/
CATEGORIES:School
END:VEVENT
END:VCALENDAR