BEGIN:VCALENDAR
VERSION:2.0
PRODID:-//St. Timothy Events - ECPv6.15.19//NONSGML v1.0//EN
CALSCALE:GREGORIAN
METHOD:PUBLISH
X-ORIGINAL-URL:https://sttimsevents.com
X-WR-CALDESC:Events for St. Timothy Events
REFRESH-INTERVAL;VALUE=DURATION:PT1H
X-Robots-Tag:noindex
X-PUBLISHED-TTL:PT1H
BEGIN:VTIMEZONE
TZID:America/Detroit
BEGIN:DAYLIGHT
TZOFFSETFROM:-0500
TZOFFSETTO:-0400
TZNAME:EDT
DTSTART:20250309T070000
END:DAYLIGHT
BEGIN:STANDARD
TZOFFSETFROM:-0400
TZOFFSETTO:-0500
TZNAME:EST
DTSTART:20251102T060000
END:STANDARD
BEGIN:DAYLIGHT
TZOFFSETFROM:-0500
TZOFFSETTO:-0400
TZNAME:EDT
DTSTART:20260308T070000
END:DAYLIGHT
BEGIN:STANDARD
TZOFFSETFROM:-0400
TZOFFSETTO:-0500
TZNAME:EST
DTSTART:20261101T060000
END:STANDARD
BEGIN:DAYLIGHT
TZOFFSETFROM:-0500
TZOFFSETTO:-0400
TZNAME:EDT
DTSTART:20270314T070000
END:DAYLIGHT
BEGIN:STANDARD
TZOFFSETFROM:-0400
TZOFFSETTO:-0500
TZNAME:EST
DTSTART:20271107T060000
END:STANDARD
END:VTIMEZONE
BEGIN:VEVENT
DTSTART;TZID=America/Detroit:20260201T084000
DTEND;TZID=America/Detroit:20260201T100000
DTSTAMP:20260420T121115
CREATED:20250915T164250Z
LAST-MODIFIED:20260122T173148Z
UID:393-1769935200-1769940000@sttimsevents.com
SUMMARY:Children's Choir Performance
DESCRIPTION:Children’s Choir will perform during Mass.
URL:https://sttimsevents.com/event/childrens-choir-performance-4/
CATEGORIES:Parish,School
END:VEVENT
BEGIN:VEVENT
DTSTART;TZID=America/Detroit:20260202T183000
DTEND;TZID=America/Detroit:20260202T193000
DTSTAMP:20260420T121115
CREATED:20251112T204142Z
LAST-MODIFIED:20260126T151817Z
UID:446-1770057000-1770060600@sttimsevents.com
SUMMARY:Home & School Association Meeting
DESCRIPTION:Join other parents and volunteers in the school cafeteria for updates on upcoming events and fundraisers. \n\n\n\nSt. Timothy Home and School Association sponsors fundraising programs throughout the year to subsidize enrichment programs and school improvements. School families are encouraged to support these efforts through these fundraisers and volunteerism. \n\n\n\nThe members of the St. Timothy Home & School Association are dedicated to support and enhance our children’s Catholic education and spiritual growth. We will serve to strengthen our community by uniting the parents\, students\, and staff through ongoing communication\, effective fundraising\, and by promoting enrichment programs.
URL:https://sttimsevents.com/event/home-school-association-meeting-jan/
CATEGORIES:Fundraiser,School
END:VEVENT
BEGIN:VEVENT
DTSTART;TZID=America/Detroit:20260203T121500
DTEND;TZID=America/Detroit:20260203T140000
DTSTAMP:20260420T121115
CREATED:20241025T042926Z
LAST-MODIFIED:20260201T175324Z
UID:86-1770120900-1770127200@sttimsevents.com
SUMMARY:History and Science Fair (Storm Contingencies)
DESCRIPTION:Due to the January 2026 winter storm\, the History and Science Fairs will now take place Tuesday\, Feb. 3\, with younger grades viewing during the morning and judging taking place from 8 to 11 a.m.. Parents\, grandparents and the school community may come view from 12:15 to 2 p.m. that day.
URL:https://sttimsevents.com/event/history-fair-and-science-fair/
CATEGORIES:School
END:VEVENT
BEGIN:VEVENT
DTSTART;TZID=America/Detroit:20260205T150000
DTEND;TZID=America/Detroit:20260205T200000
DTSTAMP:20260420T121115
CREATED:20241025T042927Z
LAST-MODIFIED:20250731T132520Z
UID:88-1770303600-1770321600@sttimsevents.com
SUMMARY:Parent-Teacher Conferences
DESCRIPTION:Looking for conference sign-ups? Keep your eyes out for an email with signup information coming from your child’s teacher. Thank you!
URL:https://sttimsevents.com/event/parent-teacher-conferences-2/
CATEGORIES:School
END:VEVENT
BEGIN:VEVENT
DTSTART;TZID=America/Detroit:20260205T183000
DTEND;TZID=America/Detroit:20260205T193000
DTSTAMP:20260420T121115
CREATED:20250731T134915Z
LAST-MODIFIED:20250731T152712Z
UID:313-1770316200-1770319800@sttimsevents.com
SUMMARY:School Advisory Board meeting
DESCRIPTION:Saint Timothy School Advisory Board shall function as an advisory board whose purpose shall be to develop and define policies that govern the operation of the school.  Its primary concern is the intellectual and spiritual development of the students. \n\n\n\nThe St. Timothy School Advisory Board consists of the Pastor\, the school Principal\, Home and School Association President\, as well as elected and appointed members. Open meetings are conducted monthly\, August through May.
URL:https://sttimsevents.com/event/school-advisory-board-meeting-5/
CATEGORIES:School
END:VEVENT
BEGIN:VEVENT
DTSTART;TZID=America/Detroit:20260206T100000
DTEND;TZID=America/Detroit:20260206T110000
DTSTAMP:20260420T121115
CREATED:20250731T134808Z
LAST-MODIFIED:20260201T175444Z
UID:312-1770372000-1770375600@sttimsevents.com
SUMMARY:First Semester Academic Awards
DESCRIPTION:Assembly for Grades 6-8 to recognize academic excellence. This event will be held in the Church\, and families are welcome to attend.
URL:https://sttimsevents.com/event/first-semester-academics-recognition-assembly-grades-6-8/
CATEGORIES:School
END:VEVENT
BEGIN:VEVENT
DTSTART;TZID=America/Detroit:20260212T134500
DTEND;TZID=America/Detroit:20260212T143000
DTSTAMP:20260420T121115
CREATED:20241025T043126Z
LAST-MODIFIED:20250731T132946Z
UID:89-1770903900-1770906600@sttimsevents.com
SUMMARY:Valentine's Day Parties (K-5)
DESCRIPTION:Parents needed to help with classroom parties. Please reach out to your classroom parents if you can assist. Thank you!
URL:https://sttimsevents.com/event/valentines-day-parties-k-5/
CATEGORIES:School
END:VEVENT
BEGIN:VEVENT
DTSTART;VALUE=DATE:20260216
DTEND;VALUE=DATE:20260217
DTSTAMP:20260420T121115
CREATED:20250731T021211Z
LAST-MODIFIED:20250731T024300Z
UID:266-1771200000-1771286399@sttimsevents.com
SUMMARY:President's Day: NO SCHOOL
DESCRIPTION:
URL:https://sttimsevents.com/event/presidents-day-no-school/
CATEGORIES:School
END:VEVENT
BEGIN:VEVENT
DTSTART;VALUE=DATE:20260218
DTEND;VALUE=DATE:20260219
DTSTAMP:20260420T121115
CREATED:20250731T135023Z
LAST-MODIFIED:20250731T135041Z
UID:314-1771372800-1771459199@sttimsevents.com
SUMMARY:Ash Wednesday Mass
DESCRIPTION:Masses will be held at 9:00 AM and 6:00 PM
URL:https://sttimsevents.com/event/ash-wednesday-mass/
CATEGORIES:Parish,School
END:VEVENT
BEGIN:VEVENT
DTSTART;VALUE=DATE:20260220
DTEND;VALUE=DATE:20260221
DTSTAMP:20260420T121115
CREATED:20250731T134502Z
LAST-MODIFIED:20250731T155633Z
UID:308-1771545600-1771631999@sttimsevents.com
SUMMARY:Yearbook sale ends
DESCRIPTION:
URL:https://sttimsevents.com/event/last-day-for-yearbook-sale/
CATEGORIES:School
END:VEVENT
BEGIN:VEVENT
DTSTART;TZID=America/Detroit:20260222T084000
DTEND;TZID=America/Detroit:20260222T100000
DTSTAMP:20260420T121115
CREATED:20250915T164341Z
LAST-MODIFIED:20250915T164341Z
UID:394-1771749600-1771754400@sttimsevents.com
SUMMARY:Children's Choir Performance
DESCRIPTION:Children’s Choir will perform during Mass.
URL:https://sttimsevents.com/event/childrens-choir-performance-5/
CATEGORIES:Parish,School
END:VEVENT
BEGIN:VEVENT
DTSTART;TZID=America/Detroit:20260222T180000
DTEND;TZID=America/Detroit:20260222T200000
DTSTAMP:20260420T121115
CREATED:20260204T212852Z
LAST-MODIFIED:20260204T212853Z
UID:512-1771783200-1771790400@sttimsevents.com
SUMMARY:Middle School Youth Night
DESCRIPTION:Join us for our second middle school youth night – we’ll have games\, Chick-fil-A and an engaging talk on the Bible with Ms. Sheard. Open to students in grades 6-8.  \n\n\n\nBring a friend and get entered for a chance to win a Starbucks gift card! \n\n\n\nRSVP to eppercorn@sttimchurch.org
URL:https://sttimsevents.com/event/middle-school-youth-night/
CATEGORIES:Parish,School
ATTACH;FMTTYPE=image/png:https://sttimsevents.com/wp-content/uploads/2026/02/Youth-Night-e1770240509161.png
END:VEVENT
BEGIN:VEVENT
DTSTART;TZID=America/Detroit:20260224T080000
DTEND;TZID=America/Detroit:20260310T170000
DTSTAMP:20260420T121115
CREATED:20260223T215438Z
LAST-MODIFIED:20260223T215440Z
UID:524-1771920000-1773162000@sttimsevents.com
SUMMARY:Spring Flower Sale
DESCRIPTION:Our Spring Garden Sale is officially here — and your chance to fill your yard and garden with color\, life\, and purpose! The sale runs thru March 10\, and all plants will be available for pickup at school on May 1. \n\n\n\nFrom Foertmeyer & Sons Greenhouse\, every flat\, planter\, hanging basket\, herb\, and vegetable is expert-grown using natural fertilizers and proven growing techniques to ensure healthy plants\, vibrant color\, and long-lasting beauty. You’ll also find a wonderful selection of pollinator-friendly plants – plus a butterfly growing kit that’s perfect for kids and families!  \n\n\n\nBest of all – every purchase supports St. Timothy School. That means your spring and summer planting does double-duty – creating a gorgeous yard while helping the environment and supporting our kids\, teams\, and programs. \n\n\n\nDon’t miss your chance to grow something beautiful — shop today and share with your friends! \n\n\n\nQuestions?? Email Eli Kay (1st grade parent): Elikay0812@gmail.com
URL:https://sttimsevents.com/event/spring-flower-sale/
CATEGORIES:Fundraiser,Parish,School
ATTACH;FMTTYPE=image/jpeg:https://sttimsevents.com/wp-content/uploads/2026/02/2-2.jpg
END:VEVENT
BEGIN:VEVENT
DTSTART;TZID=America/Detroit:20260228T090000
DTEND;TZID=America/Detroit:20260228T130000
DTSTAMP:20260420T121115
CREATED:20241025T043127Z
LAST-MODIFIED:20260224T201246Z
UID:92-1772269200-1772283600@sttimsevents.com
SUMMARY:Dodgeball Tournament
DESCRIPTION:Join us for the 19th Annual Dodgeball Tournament at St. Timothy! All proceeds from the tournament will go towards the 8th grade class trip to Washington\, DC. \n\n\n\nThis year will be a double elimination tournament. Team schedule is below (please arrive 15 minutes prior to your start time): \n\n\n\nAdult Female (18 +) – 9:00 amAdult Male/Coed (18+) – 9:154/5 Grade Girls – 9:45 am4/5 Grade Boys -10:00 am6-8th Grade Girls – 10:30 am6-8th Grade Boys – 11:00 am \n\n\n\n**All times subject to change** \n\n\n\nConcessions will be available\, and a 50/50 raffle will also take place.
URL:https://sttimsevents.com/event/dodgeball-tournament-time-tbd/
CATEGORIES:Fundraiser,School
END:VEVENT
END:VCALENDAR